BEGIN:VCALENDAR
VERSION:2.0
PRODID:-//Värmländska Folkdansringen - ECPv6.11.0.1//NONSGML v1.0//EN
CALSCALE:GREGORIAN
METHOD:PUBLISH
X-WR-CALNAME:Värmländska Folkdansringen
X-ORIGINAL-URL:https://varmlandsringen.se
X-WR-CALDESC:Events for Värmländska Folkdansringen
REFRESH-INTERVAL;VALUE=DURATION:PT1H
X-Robots-Tag:noindex
X-PUBLISHED-TTL:PT1H
BEGIN:VTIMEZONE
TZID:Europe/Helsinki
BEGIN:DAYLIGHT
TZOFFSETFROM:+0200
TZOFFSETTO:+0300
TZNAME:EEST
DTSTART:20150329T010000
END:DAYLIGHT
BEGIN:STANDARD
TZOFFSETFROM:+0300
TZOFFSETTO:+0200
TZNAME:EET
DTSTART:20151025T010000
END:STANDARD
BEGIN:DAYLIGHT
TZOFFSETFROM:+0200
TZOFFSETTO:+0300
TZNAME:EEST
DTSTART:20160327T010000
END:DAYLIGHT
BEGIN:STANDARD
TZOFFSETFROM:+0300
TZOFFSETTO:+0200
TZNAME:EET
DTSTART:20161030T010000
END:STANDARD
BEGIN:DAYLIGHT
TZOFFSETFROM:+0200
TZOFFSETTO:+0300
TZNAME:EEST
DTSTART:20170326T010000
END:DAYLIGHT
BEGIN:STANDARD
TZOFFSETFROM:+0300
TZOFFSETTO:+0200
TZNAME:EET
DTSTART:20171029T010000
END:STANDARD
END:VTIMEZONE
BEGIN:VEVENT
DTSTART;TZID=Europe/Helsinki:20170315T190000
DTEND;TZID=Europe/Helsinki:20170315T220000
DTSTAMP:20260422T234753
CREATED:20170116T001423Z
LAST-MODIFIED:20170116T001651Z
UID:132-1489604400-1489615200@varmlandsringen.se
SUMMARY:Motionsdans
DESCRIPTION:MOTIONSDANS 15 MARS 19.00\, 2017\nI ULVSBYGÅRDEN\, ULVSBY \nFRYKERUDS SPELMANSLAG SPELAR UPP TILL DANS \nI PAUSEN SERVERAS KAFFE\, SMÖRGÅS OCH KAKA\nINTRÄDE 30:- \nAnmälan senast 10 mars \nULVSBY FOLKDANSLAG SER FRAM EMOT\nEN TREVLIG DANSKVÄLL\nVÄLKOMMEN
URL:https://varmlandsringen.se/event/motionsdans-3/
LOCATION:Ulvsbygården\, Ulvsbyn 311\, Karlstad\, 65593
CATEGORIES:Dans
END:VEVENT
BEGIN:VEVENT
DTSTART;TZID=Europe/Helsinki:20170307T183000
DTEND;TZID=Europe/Helsinki:20170307T210000
DTSTAMP:20260422T234753
CREATED:20170213T100010Z
LAST-MODIFIED:20170213T100111Z
UID:144-1488911400-1488920400@varmlandsringen.se
SUMMARY:Danskväll
DESCRIPTION:ALSTERS FOLKDANSLAG INBJUDER TILL DANSKVÄLL \nTISDAGEN DEN 7 MARS 2017\nKl. 18.30 på Seniorernas Hus i Karlstad\nVi dansar Gillesdanser\, Gammaldanser och någon modern.\nAlsters Spelmanslag står för musiken. \nI pausen serveras fika. \nEfter Gillesdanserna dansar vi ett par Folkdanser.\nAlla som vill vara med eller titta på är välkomna. \nInträde 20 kr \nVi hälsar er alla hjärtligt välkomna. \nAnmälan senast torsdag den 3 mars\nLars-Olof Normark\, tel: 070 669 43 15\neller e-post: lars-o.n@bredband.net
URL:https://varmlandsringen.se/event/danskvall-4/
LOCATION:Seniorernas Hus\, Brunnsgatan 6\, Karlstad\, Sverige
CATEGORIES:Dans
END:VEVENT
BEGIN:VEVENT
DTSTART;TZID=Europe/Helsinki:20170222T190000
DTEND;TZID=Europe/Helsinki:20170222T220000
DTSTAMP:20260422T234753
CREATED:20170116T001120Z
LAST-MODIFIED:20170116T001558Z
UID:129-1487790000-1487800800@varmlandsringen.se
SUMMARY:Danskväll
DESCRIPTION:GRAVA FOLKDANSLAG inbjuder till en danskväll med dansare från hela länet \nTRÄFOTERE HYNBOHOLM\nOnsdagen den 22 februari\nKl. 19.00\nVi bjuder på fika i pausen \nVÄLKOMNA! \nGRAVA Folkdanslag\nAlf o Birgitta \nMeddela Alf senast den 19 februari hur\nmånga som kommer!
URL:https://varmlandsringen.se/event/danskvall-3/
LOCATION:Träfotere\, Hyndboholm 812\, Karlstad\, 65591\, Sverige
CATEGORIES:Dans
ORGANIZER;CN="Grava Folkdanslag":MAILTO:gravafolk@gmail.com
END:VEVENT
BEGIN:VEVENT
DTSTART;TZID=Europe/Helsinki:20161120T093000
DTEND;TZID=Europe/Helsinki:20161120T173000
DTSTAMP:20260422T234753
CREATED:20161003T082612Z
LAST-MODIFIED:20161003T082612Z
UID:101-1479634200-1479663000@varmlandsringen.se
SUMMARY:Ömmande fötter och knarrande knän
DESCRIPTION:Verktygslåda för dansglädje med motsträviga kroppar\nAlla skall kunna fortsätta känna glädje och njutning av att dansa även när kroppen börjat säga ifrån på ett eller annat sätt. \nEn kurs om\nVad händer med våra kroppar med tiden?\nVad händer med dans och rörelse när det händer saker med kroppen?\nVad händer då med våra danslag/grupper? \nUr innehållet:\nBerörda ämnen:                                                      Metod:\n* Kroppen                                                                * Information och diskussion\n* Dansen                                                                 * Se filmer\n* Gruppen                                                               * Dansa \nLärare: Håkan Frykmo \nAnmälan:\nKlicka här för att anmäla dig\nSista anmälningsdag den 20 oktober.
URL:https://varmlandsringen.se/event/ommande-fotter-och-knarrande-knan/
LOCATION:Gräfsnäsgården\, Slottsskogen\, Göteborg\, Sverige
CATEGORIES:Dans,Kurs
END:VEVENT
BEGIN:VEVENT
DTSTART;TZID=Europe/Helsinki:20161102T190000
DTEND;TZID=Europe/Helsinki:20161102T220000
DTSTAMP:20260422T234753
CREATED:20161003T084332Z
LAST-MODIFIED:20161003T084332Z
UID:119-1478113200-1478124000@varmlandsringen.se
SUMMARY:Motionsdans
DESCRIPTION:Karlstads Spelfolk spelar upp till dans. \nI pausen serveras kaffe\, smörgås och kaka. \nINTRÄDE 30:- \nAnmälan senast 28 oktober till\n054-866289\, 0706-866289 eller barbro.jans@telia.com \nULVSBY FOLKDANSLAG SER FRAM EMOT EN TREVLIG DANSKVÄLL \nVÄLKOMNA
URL:https://varmlandsringen.se/event/motionsdans-2/
LOCATION:Ulvsbygården\, Ulvsbyn 311\, Karlstad\, 65593
CATEGORIES:Dans
END:VEVENT
BEGIN:VEVENT
DTSTART;TZID=Europe/Helsinki:20161008T093000
DTEND;TZID=Europe/Helsinki:20161008T153000
DTSTAMP:20260422T234753
CREATED:20161003T083303Z
LAST-MODIFIED:20161003T083303Z
UID:107-1475919000-1475940600@varmlandsringen.se
SUMMARY:Danser lämpliga för uppvisning
DESCRIPTION:Vi börjar med fika kl. 9.30 \nDansledare: Klaus Kurka \nAnmälan: Senast 1 okt 2016. \nAntal deltagare: Minst 8 par o max 50 p \nDanslista: Skördedansen\, Västgötapolska\, Väva vadmal från Rönneberga\, Rävlanda Jubileumsschottis\, Vinövalsen\, Midsommarhambo\, Das Fenster\, Holsteiner Drei Tour \nAnmälan skickas föreningsvis till: varmlandskafolkdansringen@gmail.com. \nTala om vilken förening som anmäler och vem som är kontaktperson.\nVi vill också ha namnen på deltagarna. Om det finns möjlighet så anmäl jämna par\, men absolut inget krav. \nAnmäl också eventuella matallergier för maten. \nVägbeskrivning skickas till de föreningar som önskar. \nVÄLKOMNA
URL:https://varmlandsringen.se/event/danser-lampliga-for-uppvisning/
LOCATION:Norrgården\, Hembygdsgården Kristinehamn\, Karlagatan 3A\, Kristinehamn\, Sverige
CATEGORIES:Dans,Kurs
ORGANIZER;CN="Distriktsarrangemang":MAILTO:varmlandskafolkdansringen@gmail.com
END:VEVENT
BEGIN:VEVENT
DTSTART;TZID=Europe/Helsinki:20161005T190000
DTEND;TZID=Europe/Helsinki:20161005T220000
DTSTAMP:20260422T234753
CREATED:20161003T084036Z
LAST-MODIFIED:20161003T084036Z
UID:117-1475694000-1475704800@varmlandsringen.se
SUMMARY:Danskväll
DESCRIPTION:Grava Folkdanslag inbjuder till en danskväll med lag från hela Värmland \nVi bjuder på fika i pausen \nVÄLKOMNA!\nGRAVA Folkdanslag\nAlf\, Birgitta \nTala om hur många ni blir senast den 2 oktober till\nAlf\, tel 070-246 15 07 alf.t.andersson@gmail.com \nMax 100 personer får vistas i lokalen varför vi är tvungna att begränsa antalet deltagare.
URL:https://varmlandsringen.se/event/danskvall-2/
LOCATION:Träfotere\, Hyndboholm 812\, Karlstad\, 65591\, Sverige
CATEGORIES:Dans
ORGANIZER;CN="Grava Folkdanslag":MAILTO:gravafolk@gmail.com
END:VEVENT
BEGIN:VEVENT
DTSTART;VALUE=DATE:20160827
DTEND;VALUE=DATE:20160828
DTSTAMP:20260422T234753
CREATED:20160215T082639Z
LAST-MODIFIED:20160215T082639Z
UID:58-1472256000-1472342399@varmlandsringen.se
SUMMARY:Dans och spelmansstämma i Kungsträdgården
DESCRIPTION:Kom till Stockholm och Kungsträdgården den 27 augusti!\nHär blir det spelmansmusik och dans till spelmäns musik från Kungsträdgårdens stora scen. Mästerspelmanskonsert i Jakobs kyrka. Plats för minikonserter och möjlighet att dansa på ytterligare  en dansbana.\nGlöm inte att anmäla ditt danslag för uppvisning. \nDet blir även Lilla spelmansstämman\, en workshop för dig som är mellan 7-18 år \nGå in på www.dansochspelmansstamma.se för mer information.
URL:https://varmlandsringen.se/event/dans-och-spelmansstamma-i-kungstradgarden/
CATEGORIES:Dans,Kurs
END:VEVENT
BEGIN:VEVENT
DTSTART;VALUE=DATE:20160709
DTEND;VALUE=DATE:20160710
DTSTAMP:20260422T234753
CREATED:20160215T082936Z
LAST-MODIFIED:20160215T082936Z
UID:60-1468022400-1468108799@varmlandsringen.se
SUMMARY:Hälsingehambon
DESCRIPTION:Hälsingehambon blir även i år\, den 9 juli! Läs mer på www.halsingehambon.com
URL:https://varmlandsringen.se/event/halsingehambon/
CATEGORIES:Dans
END:VEVENT
BEGIN:VEVENT
DTSTART;TZID=Europe/Helsinki:20160611T080000
DTEND;TZID=Europe/Helsinki:20160611T170000
DTSTAMP:20260422T234753
CREATED:20160305T013135Z
LAST-MODIFIED:20160305T013135Z
UID:80-1465632000-1465664400@varmlandsringen.se
SUMMARY:Ransäterstämman
DESCRIPTION:Mer information kommer inom kort.
URL:https://varmlandsringen.se/event/ransaterstamman/
CATEGORIES:Dans
END:VEVENT
BEGIN:VEVENT
DTSTART;TZID=Europe/Helsinki:20160424T093000
DTEND;TZID=Europe/Helsinki:20160424T160000
DTSTAMP:20260422T234753
CREATED:20160305T003316Z
LAST-MODIFIED:20160305T003316Z
UID:64-1461490200-1461513600@varmlandsringen.se
SUMMARY:Danskurs i Molkom
DESCRIPTION:Välkomna\ntill\nDanskurs i Molkoms hembygdsgård\n söndagen den 24 april\n\nVi dansar gammaldansvarianter från olika områden i Sverige och eventuellt någon polska\n\n\nDansledare är Astrid Wiktorsson och Hans Berged \nVi startar med fika kl 09.30 och avslutar kl 16.00 \nKostnaden för dagen är 100 kr per person\noch i den ingår lunch och fika \nAnmälan till Astrid 070-2461005 eller\nHans 070-6297022 senast 21 april \nNyeds Hembygdsförening
URL:https://varmlandsringen.se/event/danskurs-i-molkom/
LOCATION:Molkoms Hembygdsgård\, Molkom\, Sverige
CATEGORIES:Dans,Kurs
END:VEVENT
BEGIN:VEVENT
DTSTART;TZID=Europe/Helsinki:20160323T190000
DTEND;TZID=Europe/Helsinki:20160323T210000
DTSTAMP:20260422T234753
CREATED:20160215T035402Z
LAST-MODIFIED:20160215T035613Z
UID:54-1458759600-1458766800@varmlandsringen.se
SUMMARY:Danskväll
DESCRIPTION:GRAVA FOLKDANSLAG\ninbjuder till en danskväll med dansare från hela länet \nTRÄFOTERE GRAVA\nOnsdagen den 23 mars\nKl. 19.00 \nVi bjuder på fika i pausen \nVÄLKOMNA!\nGRAVA Folkdanslag\nAlf o Birgitta \nMeddela Alf hur många ni blir senast den 20 mars!\nEpost: alf.t.andersson@gmail.com\nTel: 070-2461507
URL:https://varmlandsringen.se/event/danskvall/
LOCATION:Träfotere\, Hyndboholm 812\, Karlstad\, 65591\, Sverige
CATEGORIES:Dans
ORGANIZER;CN="Grava Folkdanslag":MAILTO:gravafolk@gmail.com
END:VEVENT
BEGIN:VEVENT
DTSTART;TZID=Europe/Helsinki:20160319T170000
DTEND;TZID=Europe/Helsinki:20160319T180000
DTSTAMP:20260422T234753
CREATED:20160305T011450Z
LAST-MODIFIED:20160305T011556Z
UID:69-1458406800-1458410400@varmlandsringen.se
SUMMARY:Påskfest
DESCRIPTION:PÅSKFEST \nALSTERS FOLKDANSLAG INBJUDER TILL PÅSKFEST\n LÖRDAGEN DEN 19 MARS 2016\n Kl. 17.00 på Seniorernas Hus \nSEDVANLIG MÅLTID\, KAFFE \nGAMMALDANS\, GILLESDANSER\, MODERNT LEVANDE MUSIK\nAllt till en kostnad av 120 kr. \nANMÄLAN  \nAnmälan senast den 12 mars till \nL-O Normark tel: 054 510619\, mobil: 070 669 43 15\ne-post: lonke@hotmail.com
URL:https://varmlandsringen.se/event/paskfest/
LOCATION:Seniorernas Hus\, Brunnsgatan 6\, Karlstad\, Sverige
CATEGORIES:Dans
END:VEVENT
BEGIN:VEVENT
DTSTART;TZID=Europe/Helsinki:20160305T100000
DTEND;TZID=Europe/Helsinki:20160305T150000
DTSTAMP:20260422T234753
CREATED:20160213T161914Z
LAST-MODIFIED:20160213T161914Z
UID:47-1457172000-1457190000@varmlandsringen.se
SUMMARY:Distriktsstämma
DESCRIPTION:Kallelse till Distriktsstämma lördagen den 5 mars 2016 \n  \nTid:               Kaffe och smörgås serveras från klockan 09.30 \nStämma 10.00 – 12.00 \nCa kl. 12.00 bjuder distriktet på enkel lunch. Anmäl allergier.\nKl. 13.00 – 15.00 Gillesdans med Alf Andersson och Birgitta Olofsson\nPlats:             Träfotere\, Hynboholm. Värdar är Grums och Grava folkdanslag.\nDeltagare:     Två ombud per förening samt övriga intresserade medlemmar\nAnmälan:      Senast 20 februari 2016 till\ne-post: varmlandskafolkdansringen@gmail.com \nÄrenden:\nÅrsredovisning\, revision\, fråga om ansvarsfrihet\nVal av distriktsfunktionärer\nMedlemsavgift 2017\nmm \nMotioner:\nMotioner skall\, enligt stadgarna\, vara inlämnade senast 1 februari. \nInga motioner har inkommit. \nHar du frågor om stämman kan du skriva ett mail till styrelsen (e-post se ovan). Du kan också kontakta Carola Sandberg tel. 070-594 97 59. \nHandlingar för stämman kommer i separat mail. Handlingar skall enligt stadgarna skickas till föreningarna minst 15 dagar före stämman\, dvs senast 19 februari. \n  \nVälkomna att anmäla ombud och andra intresserade som vill delta i stämman\, äta lunch och sedan dansa ett par timmar! \n  \nFör styrelsen\nCarola Sandberg\nSekreterare
URL:https://varmlandsringen.se/event/distriktsstamma/
LOCATION:Träfotere\, Hyndboholm 812\, Karlstad\, 65591\, Sverige
CATEGORIES:Dans,Möte
ORGANIZER;CN="Distriktsarrangemang":MAILTO:varmlandskafolkdansringen@gmail.com
END:VEVENT
BEGIN:VEVENT
DTSTART;TZID=Europe/Helsinki:20160228T180000
DTEND;TZID=Europe/Helsinki:20160228T210000
DTSTAMP:20260422T234753
CREATED:20160215T035102Z
LAST-MODIFIED:20160215T035102Z
UID:50-1456682400-1456693200@varmlandsringen.se
SUMMARY:Dansfolket bjuder in till dans
DESCRIPTION:Datum: Söndag 28 februari 2016\nTid: kl 18.00 – ca 21\nPlats: Svenshults bygdegård\, Hammarö \nAnmälan: Senast 25 februari. \nKontakta Kerstin Sandbäck tel. 054-51 35 95 eller skicka e-post till dansfolket@gmail.com \nVi bjuder på dricka och lite godis! \nTa med egen kaffekorg om du vill ha fika i pausen!\nVälkommen till en trevlig danskväll med många gilledansgodingar! \nhälsar\nDANSFOLKET
URL:https://varmlandsringen.se/event/dansfolket-bjuder-in-till-dans/
LOCATION:Svenshult\, Hammarö\, Sverige
CATEGORIES:Dans
END:VEVENT
BEGIN:VEVENT
DTSTART;TZID=Europe/Helsinki:20160215T080000
DTEND;TZID=Europe/Helsinki:20160215T170000
DTSTAMP:20260422T234753
CREATED:20160215T040534Z
LAST-MODIFIED:20160215T040534Z
UID:55-1455523200-1455555600@varmlandsringen.se
SUMMARY:Motionsdans
DESCRIPTION:MOTIONSDANS 16 MARS 19.00\nI ULVSBYGÅRDEN\, ULVSBY \nFRYKERUDS SPELMANSLAG\nSPELAR UPP TILL DANS\nI PAUSEN SERVERAS KAFFE\, SMÖRGÅS OCH KAKA \nINTRÄDE 30:- \nAnmälan senast 11 mars till 054-866289\, 0706-866289 eller barbro.jans@telia.com \nULVSBY FOLKDANSLAG SER FRAM EMOT EN TREVLIG DANSKVÄLL \nVÄLKOMMEN
URL:https://varmlandsringen.se/event/motionsdans/
LOCATION:Ulvsbygården\, Ulvsbyn 311\, Karlstad\, 65593
CATEGORIES:Dans
END:VEVENT
BEGIN:VEVENT
DTSTART;TZID=Europe/Helsinki:20151121T080000
DTEND;TZID=Europe/Helsinki:20151121T170000
DTSTAMP:20260422T234753
CREATED:20151002T070926Z
LAST-MODIFIED:20151024T102919Z
UID:25-1448092800-1448125200@varmlandsringen.se
SUMMARY:Distriktsmöte
DESCRIPTION:Distriktsmöte med dans.\nMer info kommer under v. 45
URL:https://varmlandsringen.se/event/distriktsmote/
LOCATION:Svenshult\, Hammarö\, Sverige
CATEGORIES:Dans,Möte
END:VEVENT
BEGIN:VEVENT
DTSTART;TZID=Europe/Helsinki:20151111T190000
DTEND;TZID=Europe/Helsinki:20151111T220000
DTSTAMP:20260422T234753
CREATED:20151002T070837Z
LAST-MODIFIED:20151024T114317Z
UID:23-1447268400-1447279200@varmlandsringen.se
SUMMARY:Dans i Träfotere
DESCRIPTION:Grava Folkdanslag inbjuder till danskväll med lag från hela länet. \nVi bjuder på fika i pausen. \nMax 100 personer får vistas i lokalen varför vi blir tvungna att begränsa antalet deltagare. \nTala om hur många ni blir senast den 8 november till Alf\ntel 0702461507\nalf.t.andersson@gmail.com \nGrava Folkdanslag\nAlf\, Birgitta
URL:https://varmlandsringen.se/event/dans-i-trafotere/
LOCATION:Träfotere\, Hyndboholm 812\, Karlstad\, 65591\, Sverige
CATEGORIES:Dans
ORGANIZER;CN="Grava Folkdanslag":MAILTO:gravafolk@gmail.com
END:VEVENT
BEGIN:VEVENT
DTSTART;TZID=Europe/Helsinki:20151006T080000
DTEND;TZID=Europe/Helsinki:20151006T170000
DTSTAMP:20260422T234753
CREATED:20151002T071022Z
LAST-MODIFIED:20151002T071022Z
UID:26-1444118400-1444150800@varmlandsringen.se
SUMMARY:Dans i Seniorernas Hus
DESCRIPTION:
URL:https://varmlandsringen.se/event/dans-i-seniorernas-hus/
CATEGORIES:Dans
END:VEVENT
BEGIN:VEVENT
DTSTART;TZID=Europe/Helsinki:20151004T080000
DTEND;TZID=Europe/Helsinki:20151004T170000
DTSTAMP:20260422T234753
CREATED:20151002T071107Z
LAST-MODIFIED:20151002T071107Z
UID:28-1443945600-1443978000@varmlandsringen.se
SUMMARY:Motionsdans i Ulvsbygården
DESCRIPTION:
URL:https://varmlandsringen.se/event/motionsdans-i-ulvsbygarden/
CATEGORIES:Dans
END:VEVENT
BEGIN:VEVENT
DTSTART;TZID=Europe/Helsinki:20151002T080000
DTEND;TZID=Europe/Helsinki:20151002T170000
DTSTAMP:20260422T234753
CREATED:20151002T004922Z
LAST-MODIFIED:20151002T070628Z
UID:17-1443772800-1443805200@varmlandsringen.se
SUMMARY:Dans i Oleby
DESCRIPTION:
URL:https://varmlandsringen.se/event/dans-i-oleby/
CATEGORIES:Dans
END:VEVENT
END:VCALENDAR