BEGIN:VCALENDAR
VERSION:2.0
PRODID:-//Värmländska Folkdansringen - ECPv6.11.0.1//NONSGML v1.0//EN
CALSCALE:GREGORIAN
METHOD:PUBLISH
X-ORIGINAL-URL:https://varmlandsringen.se
X-WR-CALDESC:Events for Värmländska Folkdansringen
REFRESH-INTERVAL;VALUE=DURATION:PT1H
X-Robots-Tag:noindex
X-PUBLISHED-TTL:PT1H
BEGIN:VTIMEZONE
TZID:Europe/Helsinki
BEGIN:DAYLIGHT
TZOFFSETFROM:+0200
TZOFFSETTO:+0300
TZNAME:EEST
DTSTART:20170326T010000
END:DAYLIGHT
BEGIN:STANDARD
TZOFFSETFROM:+0300
TZOFFSETTO:+0200
TZNAME:EET
DTSTART:20171029T010000
END:STANDARD
BEGIN:DAYLIGHT
TZOFFSETFROM:+0200
TZOFFSETTO:+0300
TZNAME:EEST
DTSTART:20180325T010000
END:DAYLIGHT
BEGIN:STANDARD
TZOFFSETFROM:+0300
TZOFFSETTO:+0200
TZNAME:EET
DTSTART:20181028T010000
END:STANDARD
BEGIN:DAYLIGHT
TZOFFSETFROM:+0200
TZOFFSETTO:+0300
TZNAME:EEST
DTSTART:20190331T010000
END:DAYLIGHT
BEGIN:STANDARD
TZOFFSETFROM:+0300
TZOFFSETTO:+0200
TZNAME:EET
DTSTART:20191027T010000
END:STANDARD
BEGIN:DAYLIGHT
TZOFFSETFROM:+0200
TZOFFSETTO:+0300
TZNAME:EEST
DTSTART:20200329T010000
END:DAYLIGHT
BEGIN:STANDARD
TZOFFSETFROM:+0300
TZOFFSETTO:+0200
TZNAME:EET
DTSTART:20201025T010000
END:STANDARD
BEGIN:DAYLIGHT
TZOFFSETFROM:+0200
TZOFFSETTO:+0300
TZNAME:EEST
DTSTART:20210328T010000
END:DAYLIGHT
BEGIN:STANDARD
TZOFFSETFROM:+0300
TZOFFSETTO:+0200
TZNAME:EET
DTSTART:20211031T010000
END:STANDARD
BEGIN:DAYLIGHT
TZOFFSETFROM:+0200
TZOFFSETTO:+0300
TZNAME:EEST
DTSTART:20220327T010000
END:DAYLIGHT
BEGIN:STANDARD
TZOFFSETFROM:+0300
TZOFFSETTO:+0200
TZNAME:EET
DTSTART:20221030T010000
END:STANDARD
BEGIN:DAYLIGHT
TZOFFSETFROM:+0200
TZOFFSETTO:+0300
TZNAME:EEST
DTSTART:20230326T010000
END:DAYLIGHT
BEGIN:STANDARD
TZOFFSETFROM:+0300
TZOFFSETTO:+0200
TZNAME:EET
DTSTART:20231029T010000
END:STANDARD
END:VTIMEZONE
BEGIN:VEVENT
DTSTART;TZID=Europe/Helsinki:20230401T190000
DTEND;TZID=Europe/Helsinki:20230402T020000
DTSTAMP:20260422T190846
CREATED:20230312T100827Z
LAST-MODIFIED:20230312T101555Z
UID:2272-1680375600-1680400800@varmlandsringen.se
SUMMARY:Påskdans Gunnarskog
DESCRIPTION:Gammeldans Gunnarskog
URL:https://varmlandsringen.se/event/paskdans-gunnarskog/
LOCATION:Hembygdsgården Gunnarskog\, LILLA ÅRBOTTEN\, Gunnarskog\, 67035\, Sverige
CATEGORIES:Dans
ATTACH;FMTTYPE=image/jpeg:https://media.varmlandsringen.se/2023/03/Paskdansen.jpeg
END:VEVENT
BEGIN:VEVENT
DTSTART;TZID=Europe/Helsinki:20230220T190000
DTEND;TZID=Europe/Helsinki:20230403T200000
DTSTAMP:20260422T190846
CREATED:20230312T102153Z
LAST-MODIFIED:20230312T102153Z
UID:2277-1676919600-1680552000@varmlandsringen.se
SUMMARY:Gammeldanskurs Grava FDL
DESCRIPTION:
URL:https://varmlandsringen.se/event/gammeldanskurs-grava-fdl/
LOCATION:Träfotere\, Hyndboholm 812\, Karlstad\, 65591\, Sverige
CATEGORIES:Dans,Kurs
ATTACH;FMTTYPE=image/png:https://media.varmlandsringen.se/2023/03/Gammeldanskurs-2023.png
ORGANIZER;CN="Grava Folkdanslag":MAILTO:gravafolk@gmail.com
END:VEVENT
BEGIN:VEVENT
DTSTART;VALUE=DATE:20200604
DTEND;VALUE=DATE:20200608
DTSTAMP:20260422T190846
CREATED:20191116T194245Z
LAST-MODIFIED:20200414T134215Z
UID:465-1591228800-1591574399@varmlandsringen.se
SUMMARY:Ransäterstämman inställt
DESCRIPTION:Årliga evenemanget i Värmland \nHär kommer vi ”Värmlands Folkdanslag” att ha en gemensam uppvisning under fredagen om allt blir som vi tänkt. \nEventuellt en dräktuppvisning\, beroende på hur mycket tid vi får \nPå lördag håller vi som vanligt i slöjdstugan\, Södra Logen. Känner du någon slöjdare som vill vara med. Tag kontakt med styrelsen \nSamt dansutlärning på Västra Logen
URL:https://varmlandsringen.se/event/ransaterstamman-2/
LOCATION:Ransäters Hembygdsgård\, Högsbyvägen 2\, Ransäter\, 684 93\, Sverige
CATEGORIES:Dans
ATTACH;FMTTYPE=image/png:https://media.varmlandsringen.se/2015/10/folkdansringen_125.png
ORGANIZER;CN="Distriktsarrangemang":MAILTO:varmlandskafolkdansringen@gmail.com
END:VEVENT
BEGIN:VEVENT
DTSTART;TZID=Europe/Helsinki:20200418T080000
DTEND;TZID=Europe/Helsinki:20200418T170000
DTSTAMP:20260422T190846
CREATED:20191116T191746Z
LAST-MODIFIED:20200414T133649Z
UID:460-1587196800-1587229200@varmlandsringen.se
SUMMARY:Vårkurs / Inställd
DESCRIPTION:Här kommer vi att tillsammans gå igenom vad som kommer att ske under Värmlands firande av Svenska Folkdansringens 100år firande. \nSå det vore tacknämligt om samtliga föreningar är samlade \nPlats – Tid: Återkommer med
URL:https://varmlandsringen.se/event/varkurs/
CATEGORIES:Dans,Kurs
ATTACH;FMTTYPE=image/png:https://media.varmlandsringen.se/2015/10/folkdansringen_125.png
ORGANIZER;CN="Distriktsarrangemang":MAILTO:varmlandskafolkdansringen@gmail.com
END:VEVENT
BEGIN:VEVENT
DTSTART;TZID=Europe/Helsinki:20200318T190000
DTEND;TZID=Europe/Helsinki:20200318T210000
DTSTAMP:20260422T190846
CREATED:20191125T181100Z
LAST-MODIFIED:20191125T181100Z
UID:517-1584558000-1584565200@varmlandsringen.se
SUMMARY:Motionsdans
DESCRIPTION:Onsdagen den 18 mars\, kl 19:00. Frykeruds Spelmanslag spelar.
URL:https://varmlandsringen.se/event/motionsdans-4/
LOCATION:Ulvsbygården\, Ulvsbyn 311\, Karlstad\, 65593
CATEGORIES:Dans
ATTACH;FMTTYPE=image/jpeg:https://media.varmlandsringen.se/2019/11/UlvsbyFDL.jpg
END:VEVENT
BEGIN:VEVENT
DTSTART;TZID=Europe/Helsinki:20200304T190000
DTEND;TZID=Europe/Helsinki:20200304T210000
DTSTAMP:20260422T190846
CREATED:20200120T133909Z
LAST-MODIFIED:20200120T140000Z
UID:549-1583348400-1583355600@varmlandsringen.se
SUMMARY:Danskväll Grava Folkdanslag
DESCRIPTION:
URL:https://varmlandsringen.se/event/danskvall-grava-folkdanslag/
LOCATION:Träfotere\, Hyndboholm 812\, Karlstad\, 65591\, Sverige
CATEGORIES:Dans
ATTACH;FMTTYPE=image/gif:https://media.varmlandsringen.se/2019/11/folkdans_01.gif
ORGANIZER;CN="Grava Folkdanslag":MAILTO:gravafolk@gmail.com
END:VEVENT
BEGIN:VEVENT
DTSTART;TZID=Europe/Helsinki:20200304T183000
DTEND;TZID=Europe/Helsinki:20200304T210000
DTSTAMP:20260422T190846
CREATED:20191125T180804Z
LAST-MODIFIED:20191125T180804Z
UID:515-1583346600-1583355600@varmlandsringen.se
SUMMARY:Polskekväll
DESCRIPTION:Onsdagen den 4 mars\, kl 18:30.
URL:https://varmlandsringen.se/event/polskekvall/
LOCATION:Ulvsbygården\, Ulvsbyn 311\, Karlstad\, 65593
CATEGORIES:Dans
ATTACH;FMTTYPE=image/jpeg:https://media.varmlandsringen.se/2019/11/UlvsbyFDL.jpg
END:VEVENT
BEGIN:VEVENT
DTSTART;TZID=Europe/Helsinki:20200218T183000
DTEND;TZID=Europe/Helsinki:20200218T210000
DTSTAMP:20260422T190846
CREATED:20200120T135113Z
LAST-MODIFIED:20200120T141908Z
UID:552-1582050600-1582059600@varmlandsringen.se
SUMMARY:Danskväll Alsters Folkdanslag
DESCRIPTION:ALSTERS FOLKDANSLAG INBJUDER \nTILL DANSKVÄLL \nTISDAGEN DEN 18 FEBRUARI 2020\nKl. 18.30 på Seniorernas Hus i Karlstad \nVi träffs\, trivs och dansar gillesdanser\, gammaldanser och någon modern. \nAlsters Spelmanslag står för musiken. \nI pausen serveras fika. \nEfter gillesdanserna dansar vi ett par folkdanser. \nAlla som vill vara med eller titta på är välkomna. \nInträde 20 kr \n  \nVi hälsar er alla hjärtligt välkomna. \n  \nANMÄLAN\nAnmälan senast måndag den 10 februari till \ne-post: alstersfdl@gmail.com \nFrågor besvaras av Christina Sundholm tel. 073 043 93 61
URL:https://varmlandsringen.se/event/danskvall-alsters-folkdanslag/
LOCATION:Seniorernas Hus\, Brunnsgatan 6\, Karlstad\, Sverige
CATEGORIES:Dans
ATTACH;FMTTYPE=image/jpeg:https://media.varmlandsringen.se/2016/03/alsters-folkdanslag.jpg
END:VEVENT
BEGIN:VEVENT
DTSTART;TZID=Europe/Helsinki:20200218T183000
DTEND;TZID=Europe/Helsinki:20200218T210000
DTSTAMP:20260422T190846
CREATED:20191125T175713Z
LAST-MODIFIED:20191125T175713Z
UID:509-1582050600-1582059600@varmlandsringen.se
SUMMARY:Polskekurs 5ggr
DESCRIPTION:Tisdagar 14\, 21\, 28 januari\, 11 och 18 februari\, kl 18:30.
URL:https://varmlandsringen.se/event/polskekurs-5ggr-5/
LOCATION:Ulvsbygården\, Ulvsbyn 311\, Karlstad\, 65593
CATEGORIES:Dans,Kurs
ATTACH;FMTTYPE=image/jpeg:https://media.varmlandsringen.se/2019/11/UlvsbyFDL.jpg
END:VEVENT
BEGIN:VEVENT
DTSTART;TZID=Europe/Helsinki:20200215T093000
DTEND;TZID=Europe/Helsinki:20200215T170000
DTSTAMP:20260422T190846
CREATED:20191116T185947Z
LAST-MODIFIED:20200204T182436Z
UID:456-1581759000-1581786000@varmlandsringen.se
SUMMARY:Gröna boken kurs
DESCRIPTION:Rikskurs planeras i Värmland den 15 februari 2020 \nPlats: Träfotere / Grava Fdl \nTid: 09.30 för fika å information\, Kurs mellan 10.00 – 17.00 \nKostnad: 700:- / medlemmar inom Folkdansringen\, 800:- övriga \nVälkommen till kurs med Mats Wahlberg\, Gunilla Landmark samt Olof Persson 15 februari 2020! \nFolkdansrörelsens Gröna boken danser \nDans och diskussion kring Folkdansringens kulturella arv. \nMed anledning av vårt 100-års jubileum önskar vi gå tillbaka till hur vi startade. Det vore roligt om vi kan känna nostalgi i många av de danser vi dansade förr men på grund av sviktande medlemsantal inte alltid kan dansa längre. \nSe deltagarlistan (har skickats till din epost) för samåkning
URL:https://varmlandsringen.se/event/grona-boken-kurs/
LOCATION:Träfotere\, Hyndboholm 812\, Karlstad\, 65591\, Sverige
CATEGORIES:Dans,Kurs
ATTACH;FMTTYPE=image/png:https://media.varmlandsringen.se/2015/10/folkdansringen_125.png
END:VEVENT
BEGIN:VEVENT
DTSTART;TZID=Europe/Helsinki:20200211T183000
DTEND;TZID=Europe/Helsinki:20200211T210000
DTSTAMP:20260422T190846
CREATED:20191125T175436Z
LAST-MODIFIED:20191125T175436Z
UID:507-1581445800-1581454800@varmlandsringen.se
SUMMARY:Polskekurs 5ggr
DESCRIPTION:Tisdagar 14\, 21\, 28 januari\, 11 och 18 februari\, kl 18:30.
URL:https://varmlandsringen.se/event/polskekurs-5ggr-4/
LOCATION:Ulvsbygården\, Ulvsbyn 311\, Karlstad\, 65593
CATEGORIES:Dans,Kurs
ATTACH;FMTTYPE=image/jpeg:https://media.varmlandsringen.se/2019/11/UlvsbyFDL.jpg
END:VEVENT
BEGIN:VEVENT
DTSTART;TZID=Europe/Helsinki:20200128T183000
DTEND;TZID=Europe/Helsinki:20200128T210000
DTSTAMP:20260422T190846
CREATED:20191125T175309Z
LAST-MODIFIED:20191125T175309Z
UID:505-1580236200-1580245200@varmlandsringen.se
SUMMARY:Polskekurs 5ggr
DESCRIPTION:Tisdagar 14\, 21\, 28 januari\, 11 och 18 februari\, kl 18:30.
URL:https://varmlandsringen.se/event/polskekurs-5ggr-3/
LOCATION:Ulvsbygården\, Ulvsbyn 311\, Karlstad\, 65593
CATEGORIES:Dans,Kurs
ATTACH;FMTTYPE=image/jpeg:https://media.varmlandsringen.se/2019/11/UlvsbyFDL.jpg
END:VEVENT
BEGIN:VEVENT
DTSTART;TZID=Europe/Helsinki:20200121T183000
DTEND;TZID=Europe/Helsinki:20200121T210000
DTSTAMP:20260422T190846
CREATED:20191125T175141Z
LAST-MODIFIED:20191125T175141Z
UID:503-1579631400-1579640400@varmlandsringen.se
SUMMARY:Polskekurs 5ggr
DESCRIPTION:Tisdagar 14\, 21\, 28 januari\, 11 och 18 februari\, kl 18:30.
URL:https://varmlandsringen.se/event/polskekurs-5ggr-2/
LOCATION:Ulvsbygården\, Ulvsbyn 311\, Karlstad\, 65593
CATEGORIES:Dans,Kurs
ATTACH;FMTTYPE=image/jpeg:https://media.varmlandsringen.se/2019/11/UlvsbyFDL.jpg
END:VEVENT
BEGIN:VEVENT
DTSTART;TZID=Europe/Helsinki:20200114T183000
DTEND;TZID=Europe/Helsinki:20200114T210000
DTSTAMP:20260422T190846
CREATED:20191125T174757Z
LAST-MODIFIED:20191125T174757Z
UID:501-1579026600-1579035600@varmlandsringen.se
SUMMARY:Polskekurs 5ggr
DESCRIPTION:Tisdagar 14\, 21\, 28 januari\, 11 och 18 februari\, kl 18:30.
URL:https://varmlandsringen.se/event/polskekurs-5ggr/
LOCATION:Ulvsbygården\, Ulvsbyn 311\, Karlstad\, 65593
CATEGORIES:Dans,Kurs
ATTACH;FMTTYPE=image/jpeg:https://media.varmlandsringen.se/2019/11/UlvsbyFDL.jpg
END:VEVENT
BEGIN:VEVENT
DTSTART;TZID=Europe/Helsinki:20200113T183000
DTEND;TZID=Europe/Helsinki:20200113T203000
DTSTAMP:20260422T190846
CREATED:20191125T175943Z
LAST-MODIFIED:20191125T175943Z
UID:511-1578940200-1578947400@varmlandsringen.se
SUMMARY:Folkdansträning
DESCRIPTION:Måndagar kl 18:30–20:30\, terminsstart den 13 januari.
URL:https://varmlandsringen.se/event/folkdanstraning/
LOCATION:Ulvsbygården\, Ulvsbyn 311\, Karlstad\, 65593
CATEGORIES:Dans
ATTACH;FMTTYPE=image/jpeg:https://media.varmlandsringen.se/2019/11/UlvsbyFDL.jpg
END:VEVENT
BEGIN:VEVENT
DTSTART;TZID=Europe/Helsinki:20191203T180000
DTEND;TZID=Europe/Helsinki:20191203T220000
DTSTAMP:20260422T190846
CREATED:20191113T173928Z
LAST-MODIFIED:20191113T173928Z
UID:446-1575396000-1575410400@varmlandsringen.se
SUMMARY:Säffle 70 år
DESCRIPTION:Välkomna att fira vårt 70-årsjubileum i samband med vår traditionella Grötfest Tisdagen den 3 december kl 1800 Medborgarhuset i Säffle \nVi dricker glögg\, äter gröt\, rimmar och dansar till Säffle Durspelare \nEntré 100 kr per person Anmälan senast den 25 november på mail f.hjelmstrom@tele2.se eller telefon 070-2569288 \nVälkomna!!!! \nPS. Om någon skulle tänka på att uppvakta oss på något sätt\, tänk på dem som behöver
URL:https://varmlandsringen.se/event/saffle-70-ar/
LOCATION:Medborgarhuset Säffle\, Magasinsgatan 2\, Säffle\, 661 30\, Sverige
CATEGORIES:Dans
ATTACH;FMTTYPE=image/png:https://media.varmlandsringen.se/2019/11/Saffle70.png
END:VEVENT
BEGIN:VEVENT
DTSTART;TZID=Europe/Helsinki:20181009T183000
DTEND;TZID=Europe/Helsinki:20181009T203000
DTSTAMP:20260422T190846
CREATED:20181005T005928Z
LAST-MODIFIED:20181005T005928Z
UID:266-1539109800-1539117000@varmlandsringen.se
SUMMARY:Danskväll
DESCRIPTION:ALSTERS FOLKDANSLAG INBJUDER TILL DANSKVÄLL \nTISDAGEN DEN 9 OKTOBER 2018\nKl. 18.30 på Seniorernas Hus i Karlstad \nVi dansar Gillesdanser\, Gammaldanser och någon modern. \nAlsters Spelmanslag står för musiken.\nI pausen serveras fika. \nEfter Gillesdanserna dansar vi ett par Folkdanser.\nAlla som vill vara med eller titta på är välkomna. \nInträde 20 kr \nVi hälsar er alla hjärtligt välkomna. \nANMÄLAN \nAnmälan senast måndag den 1 oktober till\ne-post: alstersfdl@gmail.com \nFrågor besvaras av Kerstin Sandbäck tel. 070 535 43 46
URL:https://varmlandsringen.se/event/danskvall-8/
LOCATION:Seniorernas Hus\, Brunnsgatan 6\, Karlstad\, Sverige
CATEGORIES:Dans
END:VEVENT
BEGIN:VEVENT
DTSTART;TZID=Europe/Helsinki:20180809T080000
DTEND;TZID=Europe/Helsinki:20180809T170000
DTSTAMP:20260422T190846
CREATED:20180606T110111Z
LAST-MODIFIED:20180606T110111Z
UID:218-1533801600-1533834000@varmlandsringen.se
SUMMARY:Dans på Logen\, Kristinehamns  Hembygdsgård
DESCRIPTION:Kristinehamns Hembygdsförening tillsammans med Dragspelsklubben och Folkdanslaget bjuder in till dans på Logen på Hembygdsgården i Kristinehamn \nTorsdagen den 9 augusti kl. 19.00 – 22.00\nDans till Dragspelsklubben\n(modernt och någon gammaldans) \nFrivillig entréavgift\nKaffeserveringen är öppen\nVarmt välkomna!
URL:https://varmlandsringen.se/event/dans-pa-logen-2018-08-09/
LOCATION:Logen\, Kristinehamns Hembygdsgård\, Karlagatan 3A\, Kristinehamn\, Sverige
CATEGORIES:Dans
END:VEVENT
BEGIN:VEVENT
DTSTART;TZID=Europe/Helsinki:20180802T190000
DTEND;TZID=Europe/Helsinki:20180802T220000
DTSTAMP:20260422T190846
CREATED:20180606T105848Z
LAST-MODIFIED:20180606T105952Z
UID:214-1533236400-1533247200@varmlandsringen.se
SUMMARY:Dans på Logen\, Kristinehamns Hembygdsgård
DESCRIPTION:Kristinehamns Hembygdsförening tillsammans med Dragspelsklubben och Folkdanslaget bjuder in till dans på Logen på Hembygdsgården i Kristinehamn \nTorsdagen den 2 augusti kl. 19.00 – 22.00\nGillesdans med Kvintetten Gladan \nFrivillig entréavgift\nKaffeserveringen är öppen\nVarmt välkomna!
URL:https://varmlandsringen.se/event/dans-pa-logen-2018-08-02/
LOCATION:Logen\, Kristinehamns Hembygdsgård\, Karlagatan 3A\, Kristinehamn\, Sverige
CATEGORIES:Dans
END:VEVENT
BEGIN:VEVENT
DTSTART;TZID=Europe/Helsinki:20180726T190000
DTEND;TZID=Europe/Helsinki:20180726T220000
DTSTAMP:20260422T190846
CREATED:20180606T101321Z
LAST-MODIFIED:20180606T110019Z
UID:209-1532631600-1532642400@varmlandsringen.se
SUMMARY:Dans på Logen\, Kristinehamns Hembygdsgård
DESCRIPTION:Kristinehamns Hembygdsförening tillsammans med Dragspelsklubben och Folkdanslaget bjuder in till dans på Logen på Hembygdsgården i Kristinehamn \nTorsdagen den 26 juli kl. 19.00 – 22.00\nDans till Dragspelsklubben\n(modernt och någon gammaldans) \nFrivillig entréavgift\nKaffeserveringen är öppen\nVarmt välkomna!
URL:https://varmlandsringen.se/event/dans-pa-logen-2018-07-26/
LOCATION:Logen\, Kristinehamns Hembygdsgård\, Karlagatan 3A\, Kristinehamn\, Sverige
CATEGORIES:Dans
END:VEVENT
BEGIN:VEVENT
DTSTART;TZID=Europe/Helsinki:20180707T080000
DTEND;TZID=Europe/Helsinki:20180715T020000
DTSTAMP:20260422T190846
CREATED:20180606T115238Z
LAST-MODIFIED:20180606T115437Z
UID:231-1530950400-1531620000@varmlandsringen.se
SUMMARY:Nordlek 2018
DESCRIPTION:Nordlek 2018\n10 – 15 Juli \nNordiskt Sommarläger\n7 – 9 Juli \nMer information hittar ni här: \nNordlek 2018 \nNordlek 2018 på Facebook
URL:https://varmlandsringen.se/event/nordlek-2018/
LOCATION:Falun\, Sverige
CATEGORIES:Dans,Kurs,Möte
END:VEVENT
BEGIN:VEVENT
DTSTART;TZID=Europe/Helsinki:20180607T200000
DTEND;TZID=Europe/Helsinki:20180609T150000
DTSTAMP:20260422T190846
CREATED:20180606T113409Z
LAST-MODIFIED:20180606T113504Z
UID:226-1528401600-1528556400@varmlandsringen.se
SUMMARY:Ransäterstämman 2018
DESCRIPTION:Mer information hittar ni här: \nRansäterstämmans hemsida \nRansäterstämman på Facebook
URL:https://varmlandsringen.se/event/ransaterstamman-2018/
LOCATION:Ransäters Hembygdsgård\, Högsbyvägen 2\, Ransäter\, 684 93\, Sverige
CATEGORIES:Dans,Kurs,Möte
END:VEVENT
BEGIN:VEVENT
DTSTART;TZID=Europe/Helsinki:20171013T183000
DTEND;TZID=Europe/Helsinki:20171013T210000
DTSTAMP:20260422T190846
CREATED:20170918T070327Z
LAST-MODIFIED:20170918T070327Z
UID:185-1507919400-1507928400@varmlandsringen.se
SUMMARY:Gammaldans - Gillesdans
DESCRIPTION:Fågelviks folkdansgille bjuder in till\nGammaldans – Gillesdans \nFredag den 13 oktober kl. 18.30 – ca 21 \ni Björknäsgården \, Skattkärr. \nDansen leds av Inger Sundberg och Lars Busk står för musiken \nInträde 30 kr \nGlöm inte att ta med dig kaffekorg! \nVarmt välkomna till en trivsam danseftermiddag önskar\nFågelviks Folkdansgille \nwww.ffgdans.se\nake.viklund@gmail.com
URL:https://varmlandsringen.se/event/gammaldans-gillesdans/
LOCATION:Björknäsgården\, Skattkärr
CATEGORIES:Dans
ORGANIZER;CN="F%C3%A5gelviks Folkdansgille":MAILTO:ake.viklund@gmail.com
END:VEVENT
BEGIN:VEVENT
DTSTART;TZID=Europe/Helsinki:20171010T183000
DTEND;TZID=Europe/Helsinki:20171010T200000
DTSTAMP:20260422T190846
CREATED:20170813T223544Z
LAST-MODIFIED:20170813T223544Z
UID:174-1507660200-1507665600@varmlandsringen.se
SUMMARY:Danskväll
DESCRIPTION:ALSTERS FOLKDANSLAG INBJUDER TILL DANSKVÄLL\nTISDAGEN DEN 10 OKTOBER 2017\nKl. 18.30 på Seniorernas Hus i Karlstad \nVi dansar Gillesdanser\, Gammaldanser och någon modern. \nAlsters Spelmanslag står för musiken.\nI pausen serveras fika. \nEfter Gillesdanserna dansar vi ett par Folkdanser.\nAlla som vill vara med eller titta på är välkomna. \nInträde 20 kr \nVi hälsar er alla hjärtligt välkomna. \nANMÄLAN \nAnmälan senast måndag den 2 oktober till e-post: alstersfdl@gmail.com \nFrågor besvaras av Kerstin Sandbäck tel 070 535 43 46
URL:https://varmlandsringen.se/event/danskvall-6/
LOCATION:Seniorernas Hus\, Brunnsgatan 6\, Karlstad\, Sverige
CATEGORIES:Dans
END:VEVENT
BEGIN:VEVENT
DTSTART;TZID=Europe/Helsinki:20171008T180000
DTEND;TZID=Europe/Helsinki:20171008T210000
DTSTAMP:20260422T190846
CREATED:20170918T065008Z
LAST-MODIFIED:20170918T065008Z
UID:180-1507485600-1507496400@varmlandsringen.se
SUMMARY:DANSFOLKET bjuder in till DANS
DESCRIPTION:DANSFOLKET bjuder in till DANS \nDet blir många ”dansgodingar”!\nSe preliminär danslista \nTid: Söndag 8 oktober 2017 \nKl. 18.00 – ca 21 \nPlats: Svenshults bygdegård\, Hammarö\nAnmälan: Anmäl senast 5 oktober till\nE-post: dansfolket@gmail.com\neller Kerstin Sandbäck tel. 054-51 35 95 \nTa med egen kaffekorg!\nVälkomna till en trevlig danskväll hälsar\nDANSFOLKET \nPreliminär danslista \n\nKällarschottis\nCotton eyed Joe\nRikki Mixer\nSalty Dog Rag (schottis)\nNya Månvalsen\nParty\nPå stigen\nGunnarsösnoa\nKekkeriki\nJuego\nSpadespa\nSvinger 98\nBrown eyed Mary
URL:https://varmlandsringen.se/event/dansfolket-bjuder-in-till-dans-2/
LOCATION:Svenshult\, Hammarö\, Sverige
CATEGORIES:Dans
ORGANIZER;CN="Dansfolket":MAILTO:dansfolket@gmail.com
END:VEVENT
BEGIN:VEVENT
DTSTART;TZID=Europe/Helsinki:20171005T190000
DTEND;TZID=Europe/Helsinki:20171005T220000
DTSTAMP:20260422T190846
CREATED:20170918T065423Z
LAST-MODIFIED:20170918T065423Z
UID:182-1507230000-1507240800@varmlandsringen.se
SUMMARY:Danskväll
DESCRIPTION:Inbjudan till DANSKVÄLL \nFrykeruds Spelmanslag svarar för musiken \nPlats: Hembygdsgården Forshaga\nNär: torsdagen den 5 oktober\, kl 19:00–22:00\nEntré: 30 kr. Kaffe och smörgås serveras i  pausen. \nAnmälan senast söndagen den 1 oktober.\nSvara gärna föreningsvis till:\nTb_magnusson@hotmail.com\neller till\ninga-lill.gustafsson01@bredband.net\n070-633 66 36 \nVälkomna!
URL:https://varmlandsringen.se/event/danskvall-7/
LOCATION:Hembygdsgården Forshaga\, Södra Lagerlöfsgatan 46\, Forshaga\, 66733\, Sverige
CATEGORIES:Dans
END:VEVENT
BEGIN:VEVENT
DTSTART;TZID=Europe/Helsinki:20170923T093000
DTEND;TZID=Europe/Helsinki:20170923T153000
DTSTAMP:20260422T190846
CREATED:20170813T223200Z
LAST-MODIFIED:20170813T223200Z
UID:171-1506159000-1506180600@varmlandsringen.se
SUMMARY:Dans Oleby
DESCRIPTION:FRYKSÄNDE BYGDELAG\, TORSBY \nbjuder in till dans med dansare från hela länet med Birgitta och Alf\, Grava som dansledare \nFOLKETS HUS\, OLEBY \nLÖRDAGEN DEN 23 SEPTEMBER 2017\n09.30-15.30 Kaffe från 09.00 \nVi bjuder på en enkel lunch kl 12-13\, fika kl 15 \nVÄLKOMNA! \nMeddela Berit senast den 17 sept hur många deltagare från varje förening! \nKostnad: 60 kr/person\, sätts in på konto 6805 635 507 668 \nE-post; berit.wester@gmail.com Tel: 070-345 30 55
URL:https://varmlandsringen.se/event/dans-oleby/
LOCATION:Oleby Folkets Hus\, Babordsvägen 2\, Torsby\, 68592\, Sverige
CATEGORIES:Dans
END:VEVENT
BEGIN:VEVENT
DTSTART;TZID=Europe/Helsinki:20170827T190000
DTEND;TZID=Europe/Helsinki:20170827T210000
DTSTAMP:20260422T190846
CREATED:20170813T222606Z
LAST-MODIFIED:20170813T222606Z
UID:167-1503860400-1503867600@varmlandsringen.se
SUMMARY:Dans på Logen\, Kristinehamns Hembygdsgård
DESCRIPTION:
URL:https://varmlandsringen.se/event/dans-pa-logen-2017-08-27/
LOCATION:Norrgården\, Hembygdsgården Kristinehamn\, Karlagatan 3A\, Kristinehamn\, Sverige
CATEGORIES:Dans
END:VEVENT
BEGIN:VEVENT
DTSTART;VALUE=DATE:20170705
DTEND;VALUE=DATE:20170709
DTSTAMP:20260422T190846
CREATED:20160215T083040Z
LAST-MODIFIED:20160215T083040Z
UID:61-1499212800-1499558399@varmlandsringen.se
SUMMARY:BARNLEK 2017
DESCRIPTION:Låt inte era barn och ungdomar missa chansen att åka till Färöarna den 5-8 juli 2017! Folkdansringens kansli har ett informationsmaterial från arrangören\, kontakta rikskansliet@folkdansringen.se för att ta del av detta.
URL:https://varmlandsringen.se/event/barnlek-2017/
CATEGORIES:Dans,Kurs,Möte
END:VEVENT
BEGIN:VEVENT
DTSTART;TZID=Europe/Helsinki:20170322T190000
DTEND;TZID=Europe/Helsinki:20170322T220000
DTSTAMP:20260422T190846
CREATED:20170310T234522Z
LAST-MODIFIED:20170310T234522Z
UID:158-1490209200-1490220000@varmlandsringen.se
SUMMARY:Danskväll
DESCRIPTION:INBJUDAN TILL DANSKVÄLL \nFrykeruds Spelmanslag svarar för musiken \nPlats: Hembygdsgården Forshaga\nNär: onsdagen den 22 mars\, kl 19:00–22:00\nEntré: 30 kr. Kaffe och smörgås serveras i pausen. \nAnmälan senast 12 mars \nSvara gärna föreningsvis till:\nTb_magnusson@hotmail.com\neller till\ninga-lill.gustafsson01@bredband.net\n070-633 66 36 \nVälkomna!
URL:https://varmlandsringen.se/event/danskvall-5/
LOCATION:Hembygdsgården Forshaga\, Södra Lagerlöfsgatan 46\, Forshaga\, 66733\, Sverige
CATEGORIES:Dans
END:VEVENT
END:VCALENDAR