BEGIN:VCALENDAR
VERSION:2.0
PRODID:-//Värmländska Folkdansringen - ECPv6.11.0.1//NONSGML v1.0//EN
CALSCALE:GREGORIAN
METHOD:PUBLISH
X-ORIGINAL-URL:https://varmlandsringen.se
X-WR-CALDESC:Events for Värmländska Folkdansringen
REFRESH-INTERVAL;VALUE=DURATION:PT1H
X-Robots-Tag:noindex
X-PUBLISHED-TTL:PT1H
BEGIN:VTIMEZONE
TZID:Europe/Paris
BEGIN:DAYLIGHT
TZOFFSETFROM:+0100
TZOFFSETTO:+0200
TZNAME:CEST
DTSTART:20240331T010000
END:DAYLIGHT
BEGIN:STANDARD
TZOFFSETFROM:+0200
TZOFFSETTO:+0100
TZNAME:CET
DTSTART:20241027T010000
END:STANDARD
BEGIN:DAYLIGHT
TZOFFSETFROM:+0100
TZOFFSETTO:+0200
TZNAME:CEST
DTSTART:20250330T010000
END:DAYLIGHT
BEGIN:STANDARD
TZOFFSETFROM:+0200
TZOFFSETTO:+0100
TZNAME:CET
DTSTART:20251026T010000
END:STANDARD
BEGIN:DAYLIGHT
TZOFFSETFROM:+0100
TZOFFSETTO:+0200
TZNAME:CEST
DTSTART:20260329T010000
END:DAYLIGHT
BEGIN:STANDARD
TZOFFSETFROM:+0200
TZOFFSETTO:+0100
TZNAME:CET
DTSTART:20261025T010000
END:STANDARD
END:VTIMEZONE
BEGIN:VTIMEZONE
TZID:Europe/Helsinki
BEGIN:DAYLIGHT
TZOFFSETFROM:+0200
TZOFFSETTO:+0300
TZNAME:EEST
DTSTART:20200329T010000
END:DAYLIGHT
BEGIN:STANDARD
TZOFFSETFROM:+0300
TZOFFSETTO:+0200
TZNAME:EET
DTSTART:20201025T010000
END:STANDARD
BEGIN:DAYLIGHT
TZOFFSETFROM:+0200
TZOFFSETTO:+0300
TZNAME:EEST
DTSTART:20210328T010000
END:DAYLIGHT
BEGIN:STANDARD
TZOFFSETFROM:+0300
TZOFFSETTO:+0200
TZNAME:EET
DTSTART:20211031T010000
END:STANDARD
BEGIN:DAYLIGHT
TZOFFSETFROM:+0200
TZOFFSETTO:+0300
TZNAME:EEST
DTSTART:20220327T010000
END:DAYLIGHT
BEGIN:STANDARD
TZOFFSETFROM:+0300
TZOFFSETTO:+0200
TZNAME:EET
DTSTART:20221030T010000
END:STANDARD
BEGIN:DAYLIGHT
TZOFFSETFROM:+0200
TZOFFSETTO:+0300
TZNAME:EEST
DTSTART:20230326T010000
END:DAYLIGHT
BEGIN:STANDARD
TZOFFSETFROM:+0300
TZOFFSETTO:+0200
TZNAME:EET
DTSTART:20231029T010000
END:STANDARD
END:VTIMEZONE
BEGIN:VEVENT
DTSTART;TZID=Europe/Paris:20260328T160000
DTEND;TZID=Europe/Paris:20260328T190000
DTSTAMP:20260422T154948
CREATED:20260226T173643Z
LAST-MODIFIED:20260226T173643Z
UID:7229-1774713600-1774724400@varmlandsringen.se
SUMMARY:Alsters Påskfest
DESCRIPTION:
URL:https://varmlandsringen.se/event/alsters-paskfest/
LOCATION:Seniorernas Hus\, Brunnsgatan 6\, Karlstad\, Sverige
CATEGORIES:Dans
END:VEVENT
BEGIN:VEVENT
DTSTART;TZID=Europe/Paris:20260322T093000
DTEND;TZID=Europe/Paris:20260322T150000
DTSTAMP:20260422T154948
CREATED:20260225T154912Z
LAST-MODIFIED:20260225T154912Z
UID:7220-1774171800-1774191600@varmlandsringen.se
SUMMARY:Årsmöte Distriktet
DESCRIPTION:
URL:https://varmlandsringen.se/event/arsmote-distriktet-2/
LOCATION:Hvilan\, Forshaga\, Slottsvägen 2\, Forshaga\, Sverige
CATEGORIES:Dans,Möte
ORGANIZER;CN="Distriktsarrangemang":MAILTO:varmlandskafolkdansringen@gmail.com
END:VEVENT
BEGIN:VEVENT
DTSTART;TZID=Europe/Paris:20260309T190000
DTEND;TZID=Europe/Paris:20260309T200000
DTSTAMP:20260422T154948
CREATED:20260225T154431Z
LAST-MODIFIED:20260225T154431Z
UID:7218-1773082800-1773086400@varmlandsringen.se
SUMMARY:Fortsättningskurs Gammeldans
DESCRIPTION:
URL:https://varmlandsringen.se/event/fortsattningskurs-gammeldans-2/
LOCATION:Träfotere\, Hyndboholm 812\, Karlstad\, 65591\, Sverige
CATEGORIES:Dans,Kurs
ORGANIZER;CN="Grava Folkdanslag":MAILTO:gravafolk@gmail.com
END:VEVENT
BEGIN:VEVENT
DTSTART;TZID=Europe/Paris:20260304T190000
DTEND;TZID=Europe/Paris:20260304T200000
DTSTAMP:20260422T154948
CREATED:20260225T154249Z
LAST-MODIFIED:20260225T154249Z
UID:7216-1772650800-1772654400@varmlandsringen.se
SUMMARY:Polskekurs Grava FDL
DESCRIPTION:
URL:https://varmlandsringen.se/event/polskekurs-grava-fdl/
LOCATION:Träfotere\, Hyndboholm 812\, Karlstad\, 65591\, Sverige
CATEGORIES:Dans,Kurs
ORGANIZER;CN="Grava Folkdanslag":MAILTO:gravafolk@gmail.com
END:VEVENT
BEGIN:VEVENT
DTSTART;TZID=Europe/Paris:20250405T160000
DTEND;TZID=Europe/Paris:20250405T200000
DTSTAMP:20260422T154948
CREATED:20250318T122555Z
LAST-MODIFIED:20250318T122555Z
UID:5337-1743868800-1743883200@varmlandsringen.se
SUMMARY:Påskfest Alsters Folkdanslag 5/4
DESCRIPTION:
URL:https://varmlandsringen.se/event/paskfest-alsters-folkdanslag-5-4/
LOCATION:Seniorernas Hus\, Brunnsgatan 6\, Karlstad\, Sverige
CATEGORIES:Dans
END:VEVENT
BEGIN:VEVENT
DTSTART;TZID=Europe/Paris:20250319T190000
DTEND;TZID=Europe/Paris:20250319T210000
DTSTAMP:20260422T154948
CREATED:20250318T123624Z
LAST-MODIFIED:20250318T123624Z
UID:5347-1742410800-1742418000@varmlandsringen.se
SUMMARY:Motionsdans Ulvsby 19/3
DESCRIPTION:
URL:https://varmlandsringen.se/event/motionsdans-ulvsby-19-3/
LOCATION:Ulvsbygården\, Ulvsbyn 311\, Karlstad\, 65593
CATEGORIES:Dans
END:VEVENT
BEGIN:VEVENT
DTSTART;TZID=Europe/Paris:20250219T190000
DTEND;TZID=Europe/Paris:20250219T210000
DTSTAMP:20260422T154948
CREATED:20250203T133353Z
LAST-MODIFIED:20250203T133353Z
UID:5053-1739991600-1739998800@varmlandsringen.se
SUMMARY:Dansträff Grava
DESCRIPTION:
URL:https://varmlandsringen.se/event/danstraff-grava/
LOCATION:Träfotere\, Hyndboholm 812\, Karlstad\, 65591\, Sverige
CATEGORIES:Dans
ORGANIZER;CN="Grava Folkdanslag":MAILTO:gravafolk@gmail.com
END:VEVENT
BEGIN:VEVENT
DTSTART;TZID=Europe/Paris:20241227T190000
DTEND;TZID=Europe/Paris:20241227T213000
DTSTAMP:20260422T154948
CREATED:20241111T143513Z
LAST-MODIFIED:20241111T143513Z
UID:4531-1735326000-1735335000@varmlandsringen.se
SUMMARY:Mellandagsdans 27/12 Grava
DESCRIPTION:
URL:https://varmlandsringen.se/event/mellandagsdans-27-12-grava/
LOCATION:Träfotere\, Hyndboholm 812\, Karlstad\, 65591\, Sverige
CATEGORIES:Dans
ORGANIZER;CN="Grava Folkdanslag":MAILTO:gravafolk@gmail.com
END:VEVENT
BEGIN:VEVENT
DTSTART;TZID=Europe/Paris:20241128T183000
DTEND;TZID=Europe/Paris:20241128T210000
DTSTAMP:20260422T154948
CREATED:20241118T095846Z
LAST-MODIFIED:20241118T095846Z
UID:4564-1732818600-1732827600@varmlandsringen.se
SUMMARY:Gammeldans 28/11
DESCRIPTION:Danskväll med Gammeldans 28 november \nKl 18:30 Oleby Folkets hus\n\nDans till  grupper\nFryksände Spelmanslag\nLer & Långhalm\nSunnlåt\nStråklaget\, Kulturskolan\n\nFri Entré\nServering\nArr: Fryksände bygdelag\, Studiefrämjandet & Torsby Kulturskola\nVälkomna
URL:https://varmlandsringen.se/event/gammeldans-28-11/
LOCATION:Oleby Folkets Hus\, Babordsvägen 2\, Torsby\, 68592\, Sverige
CATEGORIES:Dans
END:VEVENT
BEGIN:VEVENT
DTSTART;TZID=Europe/Paris:20241113T190000
DTEND;TZID=Europe/Paris:20241113T213000
DTSTAMP:20260422T154948
CREATED:20241029T104600Z
LAST-MODIFIED:20241029T104600Z
UID:4468-1731524400-1731533400@varmlandsringen.se
SUMMARY:Ulvsby Motionsdans
DESCRIPTION:
URL:https://varmlandsringen.se/event/ulvsby-motionsdans/
LOCATION:Ulvsbygården\, Ulvsbyn 311\, Karlstad\, 65593
CATEGORIES:Dans
END:VEVENT
BEGIN:VEVENT
DTSTART;TZID=Europe/Paris:20241031T190000
DTEND;TZID=Europe/Paris:20241031T210000
DTSTAMP:20260422T154948
CREATED:20241002T155627Z
LAST-MODIFIED:20241002T155627Z
UID:4373-1730401200-1730408400@varmlandsringen.se
SUMMARY:Danskväll Alsters Folkdanslag 31/10
DESCRIPTION:
URL:https://varmlandsringen.se/event/danskvall-alsters-folkdanslag-31-10/
LOCATION:Seniorernas Hus\, Brunnsgatan 6\, Karlstad\, Sverige
CATEGORIES:Dans
END:VEVENT
BEGIN:VEVENT
DTSTART;TZID=Europe/Paris:20241016T190000
DTEND;TZID=Europe/Paris:20241016T213000
DTSTAMP:20260422T154948
CREATED:20240927T093328Z
LAST-MODIFIED:20240927T093328Z
UID:4352-1729105200-1729114200@varmlandsringen.se
SUMMARY:Polskekväll Ulvsby 16/10
DESCRIPTION:
URL:https://varmlandsringen.se/event/polskekvall-ulvsby-16-10/
LOCATION:Ulvsbygården\, Ulvsbyn 311\, Karlstad\, 65593
CATEGORIES:Dans,Kurs
END:VEVENT
BEGIN:VEVENT
DTSTART;TZID=Europe/Paris:20241009T190000
DTEND;TZID=Europe/Paris:20241009T210000
DTSTAMP:20260422T154949
CREATED:20240923T120656Z
LAST-MODIFIED:20240926T115609Z
UID:4302-1728500400-1728507600@varmlandsringen.se
SUMMARY:Danskväll hos Grava 9 oktober
DESCRIPTION:
URL:https://varmlandsringen.se/event/danskvall-hos-grava-9-oktober/
LOCATION:Träfotere\, Hyndboholm 812\, Karlstad\, 65591\, Sverige
CATEGORIES:Dans
ORGANIZER;CN="Grava Folkdanslag":MAILTO:gravafolk@gmail.com
END:VEVENT
BEGIN:VEVENT
DTSTART;TZID=Europe/Paris:20240929T170000
DTEND;TZID=Europe/Paris:20240929T200000
DTSTAMP:20260422T154949
CREATED:20240926T115310Z
LAST-MODIFIED:20240926T115502Z
UID:4332-1727629200-1727640000@varmlandsringen.se
SUMMARY:Danskväll Forshaga Ullerud 29/9
DESCRIPTION:
URL:https://varmlandsringen.se/event/danskvall-forshaga-ullerud-29-9/
LOCATION:Hembygdsgården Forshaga\, Södra Lagerlöfsgatan 46\, Forshaga\, 66733\, Sverige
CATEGORIES:Dans
END:VEVENT
BEGIN:VEVENT
DTSTART;TZID=Europe/Paris:20240508T190000
DTEND;TZID=Europe/Paris:20240508T210000
DTSTAMP:20260422T154949
CREATED:20240418T142836Z
LAST-MODIFIED:20240418T142836Z
UID:3712-1715194800-1715202000@varmlandsringen.se
SUMMARY:Polskekväll hos Ulvsby
DESCRIPTION:
URL:https://varmlandsringen.se/event/polskekvall-hos-ulvsby/
LOCATION:Ulvsbygården\, Ulvsbyn 311\, Karlstad\, 65593
CATEGORIES:Dans,Kurs
END:VEVENT
BEGIN:VEVENT
DTSTART;TZID=Europe/Paris:20240425T190000
DTEND;TZID=Europe/Paris:20240425T210000
DTSTAMP:20260422T154949
CREATED:20240418T143016Z
LAST-MODIFIED:20240418T143016Z
UID:3714-1714071600-1714078800@varmlandsringen.se
SUMMARY:Danskväll med Alster
DESCRIPTION:
URL:https://varmlandsringen.se/event/danskvall-med-alster/
LOCATION:Seniorernas Hus\, Brunnsgatan 6\, Karlstad\, Sverige
CATEGORIES:Dans
END:VEVENT
BEGIN:VEVENT
DTSTART;TZID=Europe/Paris:20240424T183000
DTEND;TZID=Europe/Paris:20240424T210000
DTSTAMP:20260422T154949
CREATED:20240418T143138Z
LAST-MODIFIED:20240418T143209Z
UID:3716-1713983400-1713992400@varmlandsringen.se
SUMMARY:Våravslutning Grava
DESCRIPTION:
URL:https://varmlandsringen.se/event/varavslutning-grava/
LOCATION:Träfotere\, Hyndboholm 812\, Karlstad\, 65591\, Sverige
CATEGORIES:Dans
ORGANIZER;CN="Grava Folkdanslag":MAILTO:gravafolk@gmail.com
END:VEVENT
BEGIN:VEVENT
DTSTART;TZID=Europe/Paris:20240115T201500
DTEND;TZID=Europe/Paris:20240115T210000
DTSTAMP:20260422T154949
CREATED:20240111T111550Z
LAST-MODIFIED:20240111T111806Z
UID:3199-1705349700-1705352400@varmlandsringen.se
SUMMARY:Fortsättningskurs Gammeldans
DESCRIPTION:
URL:https://varmlandsringen.se/event/fortsattningskurs-gammeldans/
LOCATION:Träfotere\, Hyndboholm 812\, Karlstad\, 65591\, Sverige
CATEGORIES:Dans,Kurs
ATTACH;FMTTYPE=image/png:https://media.varmlandsringen.se/2024/01/Fortsattningskurs-2024.png
ORGANIZER;CN="Grava Folkdanslag":MAILTO:gravafolk@gmail.com
END:VEVENT
BEGIN:VEVENT
DTSTART;TZID=Europe/Paris:20240115T190000
DTEND;TZID=Europe/Paris:20240115T200000
DTSTAMP:20260422T154949
CREATED:20240111T112804Z
LAST-MODIFIED:20240111T111634Z
UID:3195-1705345200-1705348800@varmlandsringen.se
SUMMARY:Nybörjarkurs Gammeldans
DESCRIPTION:Gammeldanskurs
URL:https://varmlandsringen.se/event/nyborjarkurs-gammeldans/
LOCATION:Träfotere\, Hyndboholm 812\, Karlstad\, 65591\, Sverige
CATEGORIES:Dans,Kurs
ATTACH;FMTTYPE=image/png:https://media.varmlandsringen.se/2024/01/Nyborjarkurs-2024.png
ORGANIZER;CN="Grava Folkdanslag":MAILTO:gravafolk@gmail.com
END:VEVENT
BEGIN:VEVENT
DTSTART;TZID=Europe/Helsinki:20230422T190000
DTEND;TZID=Europe/Helsinki:20230423T030000
DTSTAMP:20260422T154949
CREATED:20230318T161924Z
LAST-MODIFIED:20230318T162001Z
UID:2295-1682190000-1682218800@varmlandsringen.se
SUMMARY:Gammeldanskväll Jössehäringarnas Folkdansare
DESCRIPTION:Kanske inte till tre\, eller jo om folket är kvar
URL:https://varmlandsringen.se/event/gammeldanskvall-josseharingarnas-folkdansare/
LOCATION:Slöjdstugan Sågudden\, Sågudden\, Arvika\, 671 32\, Sverige
CATEGORIES:Dans
ATTACH;FMTTYPE=image/jpeg:https://media.varmlandsringen.se/2023/03/Gammeldans-22-4.jpeg
END:VEVENT
BEGIN:VEVENT
DTSTART;TZID=Europe/Helsinki:20230401T190000
DTEND;TZID=Europe/Helsinki:20230402T020000
DTSTAMP:20260422T154949
CREATED:20230312T100827Z
LAST-MODIFIED:20230312T101555Z
UID:2272-1680375600-1680400800@varmlandsringen.se
SUMMARY:Påskdans Gunnarskog
DESCRIPTION:Gammeldans Gunnarskog
URL:https://varmlandsringen.se/event/paskdans-gunnarskog/
LOCATION:Hembygdsgården Gunnarskog\, LILLA ÅRBOTTEN\, Gunnarskog\, 67035\, Sverige
CATEGORIES:Dans
ATTACH;FMTTYPE=image/jpeg:https://media.varmlandsringen.se/2023/03/Paskdansen.jpeg
END:VEVENT
BEGIN:VEVENT
DTSTART;TZID=Europe/Helsinki:20230220T190000
DTEND;TZID=Europe/Helsinki:20230403T200000
DTSTAMP:20260422T154949
CREATED:20230312T102153Z
LAST-MODIFIED:20230312T102153Z
UID:2277-1676919600-1680552000@varmlandsringen.se
SUMMARY:Gammeldanskurs Grava FDL
DESCRIPTION:
URL:https://varmlandsringen.se/event/gammeldanskurs-grava-fdl/
LOCATION:Träfotere\, Hyndboholm 812\, Karlstad\, 65591\, Sverige
CATEGORIES:Dans,Kurs
ATTACH;FMTTYPE=image/png:https://media.varmlandsringen.se/2023/03/Gammeldanskurs-2023.png
ORGANIZER;CN="Grava Folkdanslag":MAILTO:gravafolk@gmail.com
END:VEVENT
BEGIN:VEVENT
DTSTART;VALUE=DATE:20200604
DTEND;VALUE=DATE:20200608
DTSTAMP:20260422T154949
CREATED:20191116T194245Z
LAST-MODIFIED:20200414T134215Z
UID:465-1591228800-1591574399@varmlandsringen.se
SUMMARY:Ransäterstämman inställt
DESCRIPTION:Årliga evenemanget i Värmland \nHär kommer vi ”Värmlands Folkdanslag” att ha en gemensam uppvisning under fredagen om allt blir som vi tänkt. \nEventuellt en dräktuppvisning\, beroende på hur mycket tid vi får \nPå lördag håller vi som vanligt i slöjdstugan\, Södra Logen. Känner du någon slöjdare som vill vara med. Tag kontakt med styrelsen \nSamt dansutlärning på Västra Logen
URL:https://varmlandsringen.se/event/ransaterstamman-2/
LOCATION:Ransäters Hembygdsgård\, Högsbyvägen 2\, Ransäter\, 684 93\, Sverige
CATEGORIES:Dans
ATTACH;FMTTYPE=image/png:https://media.varmlandsringen.se/2015/10/folkdansringen_125.png
ORGANIZER;CN="Distriktsarrangemang":MAILTO:varmlandskafolkdansringen@gmail.com
END:VEVENT
BEGIN:VEVENT
DTSTART;TZID=Europe/Helsinki:20200418T080000
DTEND;TZID=Europe/Helsinki:20200418T170000
DTSTAMP:20260422T154949
CREATED:20191116T191746Z
LAST-MODIFIED:20200414T133649Z
UID:460-1587196800-1587229200@varmlandsringen.se
SUMMARY:Vårkurs / Inställd
DESCRIPTION:Här kommer vi att tillsammans gå igenom vad som kommer att ske under Värmlands firande av Svenska Folkdansringens 100år firande. \nSå det vore tacknämligt om samtliga föreningar är samlade \nPlats – Tid: Återkommer med
URL:https://varmlandsringen.se/event/varkurs/
CATEGORIES:Dans,Kurs
ATTACH;FMTTYPE=image/png:https://media.varmlandsringen.se/2015/10/folkdansringen_125.png
ORGANIZER;CN="Distriktsarrangemang":MAILTO:varmlandskafolkdansringen@gmail.com
END:VEVENT
BEGIN:VEVENT
DTSTART;TZID=Europe/Helsinki:20200318T190000
DTEND;TZID=Europe/Helsinki:20200318T210000
DTSTAMP:20260422T154949
CREATED:20191125T181100Z
LAST-MODIFIED:20191125T181100Z
UID:517-1584558000-1584565200@varmlandsringen.se
SUMMARY:Motionsdans
DESCRIPTION:Onsdagen den 18 mars\, kl 19:00. Frykeruds Spelmanslag spelar.
URL:https://varmlandsringen.se/event/motionsdans-4/
LOCATION:Ulvsbygården\, Ulvsbyn 311\, Karlstad\, 65593
CATEGORIES:Dans
ATTACH;FMTTYPE=image/jpeg:https://media.varmlandsringen.se/2019/11/UlvsbyFDL.jpg
END:VEVENT
BEGIN:VEVENT
DTSTART;TZID=Europe/Helsinki:20200304T190000
DTEND;TZID=Europe/Helsinki:20200304T210000
DTSTAMP:20260422T154949
CREATED:20200120T133909Z
LAST-MODIFIED:20200120T140000Z
UID:549-1583348400-1583355600@varmlandsringen.se
SUMMARY:Danskväll Grava Folkdanslag
DESCRIPTION:
URL:https://varmlandsringen.se/event/danskvall-grava-folkdanslag/
LOCATION:Träfotere\, Hyndboholm 812\, Karlstad\, 65591\, Sverige
CATEGORIES:Dans
ATTACH;FMTTYPE=image/gif:https://media.varmlandsringen.se/2019/11/folkdans_01.gif
ORGANIZER;CN="Grava Folkdanslag":MAILTO:gravafolk@gmail.com
END:VEVENT
BEGIN:VEVENT
DTSTART;TZID=Europe/Helsinki:20200304T183000
DTEND;TZID=Europe/Helsinki:20200304T210000
DTSTAMP:20260422T154949
CREATED:20191125T180804Z
LAST-MODIFIED:20191125T180804Z
UID:515-1583346600-1583355600@varmlandsringen.se
SUMMARY:Polskekväll
DESCRIPTION:Onsdagen den 4 mars\, kl 18:30.
URL:https://varmlandsringen.se/event/polskekvall/
LOCATION:Ulvsbygården\, Ulvsbyn 311\, Karlstad\, 65593
CATEGORIES:Dans
ATTACH;FMTTYPE=image/jpeg:https://media.varmlandsringen.se/2019/11/UlvsbyFDL.jpg
END:VEVENT
BEGIN:VEVENT
DTSTART;TZID=Europe/Helsinki:20200218T183000
DTEND;TZID=Europe/Helsinki:20200218T210000
DTSTAMP:20260422T154949
CREATED:20200120T135113Z
LAST-MODIFIED:20200120T141908Z
UID:552-1582050600-1582059600@varmlandsringen.se
SUMMARY:Danskväll Alsters Folkdanslag
DESCRIPTION:ALSTERS FOLKDANSLAG INBJUDER \nTILL DANSKVÄLL \nTISDAGEN DEN 18 FEBRUARI 2020\nKl. 18.30 på Seniorernas Hus i Karlstad \nVi träffs\, trivs och dansar gillesdanser\, gammaldanser och någon modern. \nAlsters Spelmanslag står för musiken. \nI pausen serveras fika. \nEfter gillesdanserna dansar vi ett par folkdanser. \nAlla som vill vara med eller titta på är välkomna. \nInträde 20 kr \n  \nVi hälsar er alla hjärtligt välkomna. \n  \nANMÄLAN\nAnmälan senast måndag den 10 februari till \ne-post: alstersfdl@gmail.com \nFrågor besvaras av Christina Sundholm tel. 073 043 93 61
URL:https://varmlandsringen.se/event/danskvall-alsters-folkdanslag/
LOCATION:Seniorernas Hus\, Brunnsgatan 6\, Karlstad\, Sverige
CATEGORIES:Dans
ATTACH;FMTTYPE=image/jpeg:https://media.varmlandsringen.se/2016/03/alsters-folkdanslag.jpg
END:VEVENT
BEGIN:VEVENT
DTSTART;TZID=Europe/Helsinki:20200218T183000
DTEND;TZID=Europe/Helsinki:20200218T210000
DTSTAMP:20260422T154949
CREATED:20191125T175713Z
LAST-MODIFIED:20191125T175713Z
UID:509-1582050600-1582059600@varmlandsringen.se
SUMMARY:Polskekurs 5ggr
DESCRIPTION:Tisdagar 14\, 21\, 28 januari\, 11 och 18 februari\, kl 18:30.
URL:https://varmlandsringen.se/event/polskekurs-5ggr-5/
LOCATION:Ulvsbygården\, Ulvsbyn 311\, Karlstad\, 65593
CATEGORIES:Dans,Kurs
ATTACH;FMTTYPE=image/jpeg:https://media.varmlandsringen.se/2019/11/UlvsbyFDL.jpg
END:VEVENT
BEGIN:VEVENT
DTSTART;TZID=Europe/Helsinki:20200215T093000
DTEND;TZID=Europe/Helsinki:20200215T170000
DTSTAMP:20260422T154949
CREATED:20191116T185947Z
LAST-MODIFIED:20200204T182436Z
UID:456-1581759000-1581786000@varmlandsringen.se
SUMMARY:Gröna boken kurs
DESCRIPTION:Rikskurs planeras i Värmland den 15 februari 2020 \nPlats: Träfotere / Grava Fdl \nTid: 09.30 för fika å information\, Kurs mellan 10.00 – 17.00 \nKostnad: 700:- / medlemmar inom Folkdansringen\, 800:- övriga \nVälkommen till kurs med Mats Wahlberg\, Gunilla Landmark samt Olof Persson 15 februari 2020! \nFolkdansrörelsens Gröna boken danser \nDans och diskussion kring Folkdansringens kulturella arv. \nMed anledning av vårt 100-års jubileum önskar vi gå tillbaka till hur vi startade. Det vore roligt om vi kan känna nostalgi i många av de danser vi dansade förr men på grund av sviktande medlemsantal inte alltid kan dansa längre. \nSe deltagarlistan (har skickats till din epost) för samåkning
URL:https://varmlandsringen.se/event/grona-boken-kurs/
LOCATION:Träfotere\, Hyndboholm 812\, Karlstad\, 65591\, Sverige
CATEGORIES:Dans,Kurs
ATTACH;FMTTYPE=image/png:https://media.varmlandsringen.se/2015/10/folkdansringen_125.png
END:VEVENT
END:VCALENDAR