BEGIN:VCALENDAR
VERSION:2.0
PRODID:-//Värmländska Folkdansringen - ECPv6.11.0.1//NONSGML v1.0//EN
CALSCALE:GREGORIAN
METHOD:PUBLISH
X-ORIGINAL-URL:https://varmlandsringen.se
X-WR-CALDESC:Events for Värmländska Folkdansringen
REFRESH-INTERVAL;VALUE=DURATION:PT1H
X-Robots-Tag:noindex
X-PUBLISHED-TTL:PT1H
BEGIN:VTIMEZONE
TZID:Europe/Paris
BEGIN:DAYLIGHT
TZOFFSETFROM:+0100
TZOFFSETTO:+0200
TZNAME:CEST
DTSTART:20260329T010000
END:DAYLIGHT
BEGIN:STANDARD
TZOFFSETFROM:+0200
TZOFFSETTO:+0100
TZNAME:CET
DTSTART:20261025T010000
END:STANDARD
END:VTIMEZONE
BEGIN:VEVENT
DTSTART;TZID=Europe/Paris:20260328T160000
DTEND;TZID=Europe/Paris:20260328T190000
DTSTAMP:20260422T192653
CREATED:20260226T173643Z
LAST-MODIFIED:20260226T173643Z
UID:7229-1774713600-1774724400@varmlandsringen.se
SUMMARY:Alsters Påskfest
DESCRIPTION:
URL:https://varmlandsringen.se/event/alsters-paskfest/
LOCATION:Seniorernas Hus\, Brunnsgatan 6\, Karlstad\, Sverige
CATEGORIES:Dans
END:VEVENT
END:VCALENDAR