BEGIN:VCALENDAR
VERSION:2.0
PRODID:-//Värmländska Folkdansringen - ECPv6.11.0.1//NONSGML v1.0//EN
CALSCALE:GREGORIAN
METHOD:PUBLISH
X-WR-CALNAME:Värmländska Folkdansringen
X-ORIGINAL-URL:https://varmlandsringen.se
X-WR-CALDESC:Events for Värmländska Folkdansringen
REFRESH-INTERVAL;VALUE=DURATION:PT1H
X-Robots-Tag:noindex
X-PUBLISHED-TTL:PT1H
BEGIN:VTIMEZONE
TZID:Europe/Paris
BEGIN:DAYLIGHT
TZOFFSETFROM:+0100
TZOFFSETTO:+0200
TZNAME:CEST
DTSTART:20260329T010000
END:DAYLIGHT
BEGIN:STANDARD
TZOFFSETFROM:+0200
TZOFFSETTO:+0100
TZNAME:CET
DTSTART:20261025T010000
END:STANDARD
END:VTIMEZONE
BEGIN:VEVENT
DTSTART;TZID=Europe/Paris:20260309T190000
DTEND;TZID=Europe/Paris:20260309T200000
DTSTAMP:20260422T192523
CREATED:20260225T154431Z
LAST-MODIFIED:20260225T154431Z
UID:7218-1773082800-1773086400@varmlandsringen.se
SUMMARY:Fortsättningskurs Gammeldans
DESCRIPTION:
URL:https://varmlandsringen.se/event/fortsattningskurs-gammeldans-2/
LOCATION:Träfotere\, Hyndboholm 812\, Karlstad\, 65591\, Sverige
CATEGORIES:Dans,Kurs
ORGANIZER;CN="Grava Folkdanslag":MAILTO:gravafolk@gmail.com
END:VEVENT
END:VCALENDAR